BEGIN:VCALENDAR
VERSION:2.0
PRODID:-//Alte Herrlichkeit Wertherbruch e.V. - ECPv6.15.20//NONSGML v1.0//EN
CALSCALE:GREGORIAN
METHOD:PUBLISH
X-WR-CALNAME:Alte Herrlichkeit Wertherbruch e.V.
X-ORIGINAL-URL:https://wertherbruch.de
X-WR-CALDESC:Veranstaltungen für Alte Herrlichkeit Wertherbruch e.V.
REFRESH-INTERVAL;VALUE=DURATION:PT1H
X-Robots-Tag:noindex
X-PUBLISHED-TTL:PT1H
BEGIN:VTIMEZONE
TZID:UTC
BEGIN:STANDARD
TZOFFSETFROM:+0000
TZOFFSETTO:+0000
TZNAME:UTC
DTSTART:20250101T000000
END:STANDARD
END:VTIMEZONE
BEGIN:VEVENT
DTSTART;TZID=UTC:20260315T100000
DTEND;TZID=UTC:20260315T140000
DTSTAMP:20260420T094631
CREATED:20231228T173941Z
LAST-MODIFIED:20260312T073449Z
UID:6879-1773568800-1773583200@wertherbruch.de
SUMMARY:Preisschießen mit Kinderpreisschießen
DESCRIPTION:Für Verpflegung auf Spendenbasis ist gesorgt.
URL:https://wertherbruch.de/event/vorstellungsgottesdienst-der-konfirmanden-2/
LOCATION:Bürgerhalle\, Schulstr. 12\, Hamminkeln-Wertherbruch\, 46499
END:VEVENT
END:VCALENDAR