BEGIN:VCALENDAR
VERSION:2.0
PRODID:-//Alte Herrlichkeit Wertherbruch e.V. - ECPv6.15.20//NONSGML v1.0//EN
CALSCALE:GREGORIAN
METHOD:PUBLISH
X-ORIGINAL-URL:https://wertherbruch.de
X-WR-CALDESC:Veranstaltungen für Alte Herrlichkeit Wertherbruch e.V.
REFRESH-INTERVAL;VALUE=DURATION:PT1H
X-Robots-Tag:noindex
X-PUBLISHED-TTL:PT1H
BEGIN:VTIMEZONE
TZID:UTC
BEGIN:STANDARD
TZOFFSETFROM:+0000
TZOFFSETTO:+0000
TZNAME:UTC
DTSTART:20250101T000000
END:STANDARD
END:VTIMEZONE
BEGIN:VEVENT
DTSTART;TZID=UTC:20260302T193000
DTEND;TZID=UTC:20260302T220000
DTSTAMP:20260420T095126
CREATED:20230103T133953Z
LAST-MODIFIED:20251228T171222Z
UID:5702-1772479800-1772488800@wertherbruch.de
SUMMARY:Jahreshauptversammlung der Alten Herrlichkeit
DESCRIPTION:
URL:https://wertherbruch.de/event/jahreshauptversammlung-der-alten-herrlichkeit/
LOCATION:Bürgertreff\, Wertherbrucher Str. 1\, Hamminkeln-Wertherbruch\, 46499
END:VEVENT
END:VCALENDAR